BEGIN:VCALENDAR
VERSION:2.0
PRODID:-//ESSE Musicbar Winterthur//NONSGML kigkonsult.se iCalcreator 2.41.92//
CALSCALE:GREGORIAN
METHOD:PUBLISH
UID:37663262-3861-4935-a533-386437373330
X-WR-CALNAME:iCagenda
X-WR-CALDESC:Event Management Extension for Joomla!
X-WR-RELCALID:3E26604A-50F4-4449-8B3E-E4F4932D05B5
X-WR-TIMEZONE:Europe/Zurich
BEGIN:VTIMEZONE
TZID:Europe/Zurich
TZUNTIL:20280326T010000Z
BEGIN:STANDARD
TZNAME:CET
DTSTART:20251026T030000
TZOFFSETFROM:+0200
TZOFFSETTO:+0100
RDATE:20261025T030000
RDATE:20271031T030000
END:STANDARD
BEGIN:DAYLIGHT
TZNAME:CEST
DTSTART:20260329T020000
TZOFFSETFROM:+0100
TZOFFSETTO:+0200
RDATE:20270328T020000
END:DAYLIGHT
END:VTIMEZONE
BEGIN:VEVENT
UID:34646462-3536-4762-b133-393936383138
DTSTAMP:20260419T132856Z
CATEGORIES:Folk & More
CLASS:PUBLIC
DESCRIPTION;ALTREP="CID:<FFFF__=0ABBE548DFE235B58f9e8a93d@coffeebean.com>":
 «Stoppel &amp\; Bart» sind zu zweit – und klingen doch nach viel mehr: Mit
  akustischen Gitarren und Dobro erschaffen sie ein überwiegend instrumenta
 les Programm\, in dem melodiöse Linien\, feine Grooves und viel Raum für s
 pontanes Zusammenspiel im Zentrum stehen. Christoph Battaglia und Jürg Mei
 li\, kombinieren schnelle Gitarren-Riffs mit schillernden Rhythmen\, um ei
 nen Stil zu kreieren\, der Flamenco und Rock sowie alte Musik und Jazz ver
 bindet.\nDazwischen tauchen in ihrem Programm auch ein paar sorgfältig aus
 gewählte\, mundart-gesungene Titel auf\, die den Abend farbig auflockern u
 nd für besondere Textmomente sorgen. «Stoppel &amp\; Bart» werfen sich The
 men\, Riffs und improvisierte Soli gegenseitig hin- und her\, oft in rasen
 dem Tempo\, mitreissend\, feurig… Ab und zu auch vertrackt und ungewöhnlic
 h - immer aber groovig und befreiend.\nDazwischen lernt das Publikum die M
 usiker kennen\, durch humorvolle Geschichten und ihre ehrlichen\, humorvol
 len Erklärungen\, wie der eine oder andere Song entstanden ist oder auch v
 on welchen Vorbildern sie gewisse Songs «geklaut» und zu ihren Eigenen gem
 acht haben.\nChristoph Battaglia (g\, voc)\, Jürg Meili (g)\nhttps://stopp
 elundbart.ch\n&nbsp\; \n
DTSTART:20260510T173000Z
DTEND:20260510T173000Z
GEO:00;0
LOCATION:
ORGANIZER:
SEQUENCE:1
SUMMARY:Stoppel & Bart – Lieder mit Biss und Bart
TRANSP:OPAQUE
URL:https://esse-musicbar.ch/index.php/veranstaltungen-1/2649-stoppel-bart-
 2/2026-05-10-19-30
END:VEVENT
END:VCALENDAR
