BEGIN:VCALENDAR
VERSION:2.0
PRODID:-//ESSE Musicbar Winterthur//NONSGML kigkonsult.se iCalcreator 2.41.92//
CALSCALE:GREGORIAN
METHOD:PUBLISH
UID:65666636-3963-4566-b265-623665343461
X-WR-CALNAME:iCagenda
X-WR-CALDESC:Event Management Extension for Joomla!
X-WR-RELCALID:3E26604A-50F4-4449-8B3E-E4F4932D05B5
X-WR-TIMEZONE:Europe/Zurich
BEGIN:VTIMEZONE
TZID:Europe/Zurich
TZUNTIL:20280326T010000Z
BEGIN:STANDARD
TZNAME:CET
DTSTART:20251026T030000
TZOFFSETFROM:+0200
TZOFFSETTO:+0100
RDATE:20261025T030000
RDATE:20271031T030000
END:STANDARD
BEGIN:DAYLIGHT
TZNAME:CEST
DTSTART:20260329T020000
TZOFFSETFROM:+0100
TZOFFSETTO:+0200
RDATE:20270328T020000
END:DAYLIGHT
END:VTIMEZONE
BEGIN:VEVENT
UID:35366633-3735-4766-b235-386331303831
DTSTAMP:20260421T230938Z
CATEGORIES:BARBETRIEB
CLASS:PUBLIC
DESCRIPTION;ALTREP="CID:<FFFF__=0ABBE548DFE235B58f9e8a93d@coffeebean.com>":
 Die ESSE Musicbar öffnet bereits um 15:00 Uhr ihre Türen für alle\, die de
 n Tag der Arbeit gebührend feiern möchten. Zum ersten Mal in diesem Jahr b
 ringen wir unseren UFO-Grill zum Glühen und braten die traditionellen 1. M
 ai-Würste: Servelat und St. Galler-Bratwurst. Das Wetter spielt leider nic
 ht ganz mit\, deshalb bieten wir auch unseren beliebten «Zeughaus-Salat mi
 t Pommes» an. Dieser Schweizer Wurst-Käse-Salat ist ein echter Genuss und 
 wird mit allerlei leckeren Zutaten und natürlich knusprigen Pommes frites 
 serviert.\nNutze die Gelegenheit\, die ESSE einmal ohne Konzert zu erleben
  – einfach nur Bar-Sound\, gute Laune\, Drinks und Snacks! Wir freuen uns 
 sehr auf deinen Besuch.\nBild KI generiert! Nur zum Spass.
DTSTART:20260501T130000Z
DTEND:20260501T130000Z
GEO:00;0
LOCATION:
ORGANIZER:
SEQUENCE:1
SUMMARY:Tag der Arbeit
TRANSP:OPAQUE
URL:https://esse-musicbar.ch/index.php/veranstaltungen/live-veranstaltiunge
 n/2661-tag-der-arbeit/2026-05-01-15-00
END:VEVENT
END:VCALENDAR
